BEGIN:VCALENDAR
VERSION:2.0
PRODID:-//Tukios.com/
BEGIN:VEVENT
UID:2ad82507-5381-4c6c-80cc-bf7e8f61881c@www.westharpethfh.com
DTSTAMP:20260421T083235Z
DTSTART:20260418T190000Z
DTEND:20260418T220000Z
SUMMARY:Visitation
DESCRIPTION:
URL:https://www.westharpethfh.com/obituaries/john-gibson
LOCATION:West Harpeth Funeral Home and Crematory 6962 Charlotte Pike  
	Nashville TN 37209
GEO:36.1299746;-86.903277
END:VEVENT
END:VCALENDAR