BEGIN:VCALENDAR
VERSION:2.0
PRODID:-//Tukios.com/
BEGIN:VEVENT
UID:3aa70af5-b6d2-47da-a4eb-86e47e033367@www.westharpethfh.com
DTSTAMP:20260424T234231Z
DTSTART:20260502T140000Z
DTEND:20260502T153000Z
SUMMARY:Visitation
DESCRIPTION:
URL:https://www.westharpethfh.com/obituaries/laura-tran
LOCATION:West Harpeth Funeral Home 6962 Charlotte Pike  Nashville TN 
	37209
GEO:36.1299746;-86.903277
END:VEVENT
END:VCALENDAR