BEGIN:VCALENDAR
VERSION:2.0
PRODID:-//Tukios.com/
BEGIN:VEVENT
UID:ef76eb41-3b4b-45f6-afbe-d1bafcaf3eaf@www.westharpethfh.com
DTSTAMP:20260424T234503Z
DTSTART:20260502T153000Z
DTEND:20260502T170000Z
SUMMARY:Funeral Service
DESCRIPTION:
URL:https://www.westharpethfh.com/obituaries/laura-tran
LOCATION:West Harpeth Funeral Home 6962 Charlotte Pike  Nashville TN 
	37209
GEO:36.1299746;-86.903277
END:VEVENT
END:VCALENDAR