BEGIN:VCALENDAR
VERSION:2.0
PRODID:-//Tukios.com/
BEGIN:VEVENT
UID:c2b4e2d4-a9ab-483e-a53f-2fa0307dd577@www.westharpethfh.com
DTSTAMP:20260424T233947Z
DTSTART:20260502T170000Z
DTEND:20260502T180000Z
SUMMARY:Cremation
DESCRIPTION:
URL:https://www.westharpethfh.com/obituaries/laura-tran
LOCATION: 6962 Charlotte Pike  Nashville TN 37209
GEO:36.1299746;-86.903277
END:VEVENT
END:VCALENDAR